BEGIN:VCALENDAR
VERSION:2.0
PRODID:-//EcoAddendum 3.0 - ECPv4.6.1//NONSGML v1.0//EN
CALSCALE:GREGORIAN
METHOD:PUBLISH
X-WR-CALNAME:EcoAddendum 3.0
X-ORIGINAL-URL:https://www.ecoaddendum.org
X-WR-CALDESC:Events for EcoAddendum 3.0
BEGIN:VEVENT
DTSTART;TZID=America/Los_Angeles:20251005T093000
DTEND;TZID=America/Los_Angeles:20251005T120000
DTSTAMP:20260425T011918
CREATED:20250930T165812Z
LAST-MODIFIED:20250930T172047Z
UID:14423-1759656600-1759665600@www.ecoaddendum.org
SUMMARY:Volunteer - Osborne Park\, Brookhaven
DESCRIPTION:Join our Brookhaven Eco-Stewards in helping to remove invasive species from an old growth forest remnant at Osborne Park! \nWe’ll be working near the park entrance and in some off trail areas. Please bring work gloves (or we will provide work gloves if you need them)\, wear sturdy close-toed shoes\, and lightweight long pants are recommended. \nEveryone will learn about the special nature found in this neighborhood park and why your volunteer work is so important. \nWe’ll supply any tools needed such as clippers\, loppers\, small saws\, and trowels or shovels.  \n \nTo register (RSVP) click HERE  – Details and directions sent to registered participants \nA donation of $15 or more helps sustain our programs.\n \n
URL:https://www.ecoaddendum.org/event/volunteer-osborne-park-brookhaven/
END:VEVENT
END:VCALENDAR