BEGIN:VCALENDAR
VERSION:2.0
PRODID:-//EcoAddendum 3.0 - ECPv4.6.1//NONSGML v1.0//EN
CALSCALE:GREGORIAN
METHOD:PUBLISH
X-WR-CALNAME:EcoAddendum 3.0
X-ORIGINAL-URL:https://www.ecoaddendum.org
X-WR-CALDESC:Events for EcoAddendum 3.0
BEGIN:VEVENT
DTSTART;TZID=America/Los_Angeles:20251101T140000
DTEND;TZID=America/Los_Angeles:20251101T153000
DTSTAMP:20260424T234952
CREATED:20250930T161821Z
LAST-MODIFIED:20251021T061652Z
UID:14412-1762005600-1762011000@www.ecoaddendum.org
SUMMARY:Living With Trees\, Fair Oaks Park\, Cobb County
DESCRIPTION:Join us for a richly informative walk to educate homeowners and all residents about the easy-to-tell signs a tree might become a fall risk.\nTrees don’t fall for no reason! A tree falling should never be a surprise\, and should not happen when we check our trees for signs of problems. Nearly all trees will tell you they are having challenges years before they fail — if you know what signs to look for. \nOn this informative walk at Fair Oaks Park we’ll show the key indicators a tree may be struggling\, or be at risk of breaking or falling. We’ll show the distinctive growth forms\, certain visible fungi\, and how invasive vines can create a fall risk\, while native vines do not. \nEveryone should be able to look at the trees in their yard or neighborhood and know when it’s time to call a Certified Arborist for help — or rest assured their tree is healthy. We’ll also explain the differences between ISA Certified Arborists and tree cutters\, so you may save costs by knowing which tree services you might – or might not – need. \n \nWe’ll also share many interesting facts about how trees work\, and their role in a healthy neighborhood environment. \nDid you know?\n• A leaning tree is not necessarily a fall risk\n• Common trees in our yards can live for 500+ years \n• Mosses and lichens do not harm trees\n Join us at no cost – please RSVP HERE\n\n  \nDetails and directions sent to registered participants (limit 30)\nFor more information about our Living With Trees program and how to offer a walk or on-line presentation to your community group – click HERE\n \n
URL:https://www.ecoaddendum.org/event/living-with-trees-wildwood-park-cobb-county/
END:VEVENT
END:VCALENDAR